BEGIN:VCALENDAR
VERSION:2.0
PRODID:-//wp-events-plugin.com//7.2.3.1//EN
TZID:Europe/Berlin
X-WR-TIMEZONE:Europe/Berlin
BEGIN:VEVENT
UID:140@kammbegegnungen.de
DTSTART;TZID=Europe/Berlin:20260726T140000
DTEND;TZID=Europe/Berlin:20260801T110000
DTSTAMP:20260304T112154Z
URL:https://kammbegegnungen.de/veranstaltungen/cesko-nemecky-letni-tabor-v
 -saskem-krusnohori-2025-druhy-pruchod/
SUMMARY:Česko-německý tábor na horské louce v Rübenau – 2. turnus
DESCRIPTION:Prázdninový tábor v přírodě pro děti a mládež ve věku
  8-15 let\n\nTermín: neděle 19. 7. 2026 až sobota 25. 7. 2026\, Naturhe
 rberge KAMMBEGEGEGNUNGEN\, In der Gasse 3\,\n09496 Marienberg OT Rübenau\
 n\nKristina Weitzmann/Babett Schreiter\n\nJiž od roku 2008 pořádá ná
 š spolek letní tábory zaměřené na ochranu přírody uprostřed barev
 ných horských luk\nna hřebeni Krušných hor. Zájemci z České republ
 iky a Německa se mají možnost lépe poznat během pestrých\nvolnočaso
 vých aktivit\, společně poznávají krušnohorskou krajinu na přeshran
 iční exkurzi\, zkoumají místní faunu\na flóru a užívají si příj
 emnou atmosféru rozkvetlého tábořiště a večery u táborového ohně
 . Navíc se učí akti-\nvně podporovat ochranu přírody tím\, že pom
 áhají s údržbou horských luk v Rübenau. Ubytování je zajištěno v
 e\nskupinových stanech na louce u školícího střediska „Naturherberg
 e KAMMBEGEGNUNGEN“\, kam se lze uchýlit v\npřípadě silných dešťů
  a bouřek.\n\nÚčastnický poplatek: 190 € * / sourozenci 160 €* (za
 hrnuje veškeré náklady včetně stravy v bio-kvalitě)\n\n\n\n[gallery 
 size="large" ids="336622\,336616\,336684"]
ATTACH;FMTTYPE=image/jpeg:https://kammbegegnungen.de/wp-content/uploads/20
 25/11/DSC_3758-scaled.jpg
CATEGORIES:Camp
END:VEVENT
BEGIN:VTIMEZONE
TZID:Europe/Berlin
X-LIC-LOCATION:Europe/Berlin
BEGIN:DAYLIGHT
DTSTART:20260329T030000
TZOFFSETFROM:+0100
TZOFFSETTO:+0200
TZNAME:CEST
END:DAYLIGHT
END:VTIMEZONE
END:VCALENDAR