BEGIN:VCALENDAR
VERSION:2.0
PRODID:-//wp-events-plugin.com//7.2.3.1//EN
TZID:Europe/Berlin
X-WR-TIMEZONE:Europe/Berlin
BEGIN:VEVENT
UID:171@kammbegegnungen.de
DTSTART;TZID=Europe/Berlin:20260529T160000
DTEND;TZID=Europe/Berlin:20260531T180000
DTSTAMP:20260212T172136Z
URL:https://kammbegegnungen.de/veranstaltungen/naturforscherclub-mai-kanut
 our-auf-dem-tschechischen-amazonas/
SUMMARY:Naturforscherclub Mai Kanutour auf dem „tschechischen Amazonas“
DESCRIPTION:Zugvögel (ab 5.Klasse)\, Moorhühner (1.-4.Klasse) nur in Begl
 eitung der Eltern und interessierte Vereinsmitglieder\n\nEine Veranstaltun
 g des Fördervereins Natura Miriquidica e.V.\n\nTreffpunkt: Wird noch beka
 nnt geben\nBeginn: Freitag\, 29.05.2026 16 Uhr bis Sonntag\, 31.05.2026 18
 :00\nLeitung: Babett Schreiter / Hannah Zoll / Kristina Weizmann\n\nOrgani
 satoren: Ines Limmer / Carsten Limmer\nMit dem Kanu wollen wir eine fast u
 nberührte Flusslandschaft in einem tschechischen Landschaftsschutzgebiet 
 vom Wasser aus erkunden. Die Fahrt auf der Ploučnice\, auch „tschechisc
 her Amazonas“ genannt\, bietet eine intensive Naturbegegnung in einer ei
 nzigartigen Wildnis\, die im ehemaligen Militärschutzgebiet Ralsko verbor
 gen liegt. Viele Mäander\, Kiefernwälder sowie ausgedehnte Wiesen und We
 iden begleiten uns auf unserer Fahrt mit dem Kanu. Oft ragen rotschimmernd
 e Sandsteinfelsen am Ufer des Flusses auf und wir können gespannt sein\, 
 welche Naturbesonderheiten hier auf uns warten. Freut euch außerdem auf Z
 eltlageratmosphäre\, Bademöglichkeiten vor Ort sowie gemütliche Abende 
 am Lagerfeuer.\nBitte Outdoor-Ausrüstung mitbringen.
ATTACH;FMTTYPE=image/jpeg:https://kammbegegnungen.de/wp-content/uploads/20
 26/02/DSC_0185-scaled.jpg
END:VEVENT
BEGIN:VTIMEZONE
TZID:Europe/Berlin
X-LIC-LOCATION:Europe/Berlin
BEGIN:DAYLIGHT
DTSTART:20260329T030000
TZOFFSETFROM:+0100
TZOFFSETTO:+0200
TZNAME:CEST
END:DAYLIGHT
END:VTIMEZONE
END:VCALENDAR