BEGIN:VCALENDAR
VERSION:2.0
PRODID:-//wp-events-plugin.com//7.2.3.1//EN
TZID:Europe/Berlin
X-WR-TIMEZONE:Europe/Berlin
BEGIN:VEVENT
UID:172@kammbegegnungen.de
DTSTART;TZID=Europe/Berlin:20260619T170000
DTEND;TZID=Europe/Berlin:20260620T150000
DTSTAMP:20260204T082939Z
URL:https://kammbegegnungen.de/veranstaltungen/tag-der-jungen-naturwaechte
 r/
SUMMARY:Tag der jungen Naturwächter
DESCRIPTION:Zugvögel &amp\; Moorhühner zusammen\n\nEine Veranstaltung des
  Fördervereins Natura Miriquidica e.V.\nTreffpunkt: Lernort der Artenviel
 falt\nBeginn: Freitag\, 19.06.2026\, 17.00 Uhr bis 20.06.2026\, 15:00 Uhr 
 in Rübenau\nLeitung: Babett Schreiter / Kristina Weizmann\nExpertinnen: u
 .a. Dipl.-Biologe Kay Meister\, Imker Danilo Seerig\, Medienkompetenzstell
 e Erzgebirgskreis \n\n\nZum sachsenweiten Tag der Jungen Naturwächter we
 rden sich die „Moorhühner“ und die „Zugvögel“ an diesem Tag erst
 malig treffen und dürfen sich dabei auf so einige Naturforscher-Highlight
 s freuen. Besonders spannend wird es dann bei den nächtlichen Natur-Entde
 ckungen. Lasst euch überraschen! Am Samstag sind dann die Naturforschercl
 ub-Familien ab 15 Uhr eingeladen\, sich von ihren Kindern die Ergebnisse i
 hrer Naturforscheraktionen präsentieren zu lassen und im Rahmen eines kle
 inen Sommerfestes den Tag ausklingen zu lassen. Für das leibliche Wohl is
 t gesort.\nBitte Naturforscherclub-Ausrüstung mitbringen.\n\n\n
ATTACH;FMTTYPE=image/jpeg:https://kammbegegnungen.de/wp-content/uploads/20
 26/02/DSC_2240-scaled.jpg
END:VEVENT
BEGIN:VTIMEZONE
TZID:Europe/Berlin
X-LIC-LOCATION:Europe/Berlin
BEGIN:DAYLIGHT
DTSTART:20260329T030000
TZOFFSETFROM:+0100
TZOFFSETTO:+0200
TZNAME:CEST
END:DAYLIGHT
END:VTIMEZONE
END:VCALENDAR