BEGIN:VCALENDAR
VERSION:2.0
PRODID:-//wp-events-plugin.com//7.2.3.1//EN
TZID:Europe/Berlin
X-WR-TIMEZONE:Europe/Berlin
BEGIN:VEVENT
UID:170@kammbegegnungen.de
DTSTART;TZID=Europe/Berlin:20260425T130000
DTEND;TZID=Europe/Berlin:20260426T120000
DTSTAMP:20260204T083505Z
URL:https://kammbegegnungen.de/veranstaltungen/vortreffen-expeditionsgrupp
 e-balkan/
SUMMARY:Vortreffen Expeditionsgruppe „Balkan“
DESCRIPTION:Naturschutzgruppe für Teilnehmer der geplanten Jugendforschung
 sexpedition 2027\n\nEine Veranstaltung des Fördervereins Natura Miriquidi
 ca e.V.\nTreffpunkt: Naturherberge Kammbegegnungen\, In der Gasse 3\, 0949
 6 Marienberg OT Rübenau\nBeginn: Samstag\, 25.04.2026 13.00 Uhr bis Sonnt
 ag\, 26.04.2026 12.00Uhr\nLeitung: Babett Schreiter / Jonathan Breidel\n\n
 \nErstmalig trifft sich die nun feststehende Expeditionsgruppe. Wir inform
 ieren Euch über die ersten Einzelheiten unserer Reise\, erklären Euch di
 e zu besorgende Ausrüstung\, üben mit Euch das Rucksack packen\, spreche
 n erstmalig über mögliche Forschungsthemen und überlegen uns\, wie wir 
 für die Expedition finanzielle Mittel organisieren können.\nBitte Expedi
 tionsausrüstung mitbringen.\n\n
ATTACH;FMTTYPE=image/jpeg:https://kammbegegnungen.de/wp-content/uploads/20
 26/02/PK2-57-scaled.jpg
END:VEVENT
BEGIN:VTIMEZONE
TZID:Europe/Berlin
X-LIC-LOCATION:Europe/Berlin
BEGIN:DAYLIGHT
DTSTART:20260329T030000
TZOFFSETFROM:+0100
TZOFFSETTO:+0200
TZNAME:CEST
END:DAYLIGHT
END:VTIMEZONE
END:VCALENDAR